BEGIN:VCALENDAR
VERSION:2.0
PRODID:-//Plone.org//NONSGML plone.app.event//EN
X-WR-TIMEZONE:Europe/Rome
BEGIN:VEVENT
SUMMARY:STUDI DI NEUROFISIOLOGIA E INDIZI DI COSCIENZA
DTSTART;VALUE=DATE-TIME:20111007T123000Z
DTEND;VALUE=DATE-TIME:20111007T163000Z
DTSTAMP;VALUE=DATE-TIME:20260420T201910Z
UID:b356943b8dd968faf3c156322720e5f7@127.0.0.1:8095
ATTENDEE;CN="Crediti ECM richiesti per le seguenti figure professionali:";
 ROLE=REQ-PARTICIPANT:Crediti ECM richiesti per le seguenti figure professi
 onali:
ATTENDEE;CN="fisiatri, neurologi, neurochirurghi, neurofisiopatologi, medi
 ci di";ROLE=REQ-PARTICIPANT:fisiatri, neurologi, neurochirurghi, neurofisi
 opatologi, medici di
ATTENDEE;CN="medicina generale, medici chirurghi, tecnici di neurofisiopat
 ologia,";ROLE=REQ-PARTICIPANT:medicina generale, medici chirurghi, tecnici
  di neurofisiopatologia,
ATTENDEE;CN="infermieri, educatori professionali, psicologi, terapisti occ
 upazionali,";ROLE=REQ-PARTICIPANT:infermieri, educatori professionali, psi
 cologi, terapisti occupazionali,
ATTENDEE;CN="fisioterapisti, logopedisti";ROLE=REQ-PARTICIPANT:fisioterapi
 sti, logopedisti
CATEGORIES:Convegno
CREATED;VALUE=DATE-TIME:20110926T124713Z
DESCRIPTION:Convegno promosso dal Centro Studi per la Ricerca sul Coma
LAST-MODIFIED;VALUE=DATE-TIME:20111121T102707Z
LOCATION:Bologna\, Palazzo d'Accursio
URL:https://www.ausl.bologna.it/eventi/archivio/auslevent.2011-09-26.07141
 45844
END:VEVENT
END:VCALENDAR
