BEGIN:VCALENDAR
VERSION:2.0
PRODID:-//Plone.org//NONSGML plone.app.event//EN
X-WR-TIMEZONE:Europe/Rome
BEGIN:VEVENT
SUMMARY:I volti nuovi del transfert
DTSTART;VALUE=DATE-TIME:20111112T080000Z
DTEND;VALUE=DATE-TIME:20111112T140000Z
DTSTAMP;VALUE=DATE-TIME:20260420T202002Z
UID:6bbd14bbc5496bfa0109e64581103384@127.0.0.1:8095
CATEGORIES:seminario
CONTACT:officinamentis.info@gmail.com
CREATED;VALUE=DATE-TIME:20110922T091324Z
DESCRIPTION:Giornata italo-francese di psicoanalisi\n
LAST-MODIFIED;VALUE=DATE-TIME:20111121T102656Z
LOCATION:Bologna\, Aula Magna di Santa Cristina
URL:https://www.ausl.bologna.it/eventi/archivio/auslevent.2011-09-22.47130
 00958
END:VEVENT
END:VCALENDAR
