BEGIN:VCALENDAR
VERSION:2.0
PRODID:-//Plone.org//NONSGML plone.app.event//EN
X-WR-TIMEZONE:Europe/Rome
BEGIN:VEVENT
SUMMARY:La comunicazione in medicina. 
DTSTART;VALUE=DATE-TIME:20111014T070000Z
DTEND;VALUE=DATE-TIME:20111014T153000Z
DTSTAMP;VALUE=DATE-TIME:20260420T201858Z
UID:896f6ef3458bf7c0bd760e461509e86f@127.0.0.1:8095
CATEGORIES:Incontro
CONTACT:segreteria@asmepa.org
CREATED;VALUE=DATE-TIME:20110919T122507Z
DESCRIPTION:Il malato oncologico: dalla diagnosi alle cure palliative
LAST-MODIFIED;VALUE=DATE-TIME:20111121T102706Z
LOCATION:Bentivoglio\, Castello di Bentivoglio
URL:https://www.ausl.bologna.it/eventi/archivio/auslevent.2011-09-19.95606
 06288
END:VEVENT
END:VCALENDAR
