BEGIN:VCALENDAR
VERSION:2.0
PRODID:-//Plone.org//NONSGML plone.app.event//EN
X-WR-TIMEZONE:Europe/Rome
BEGIN:VEVENT
SUMMARY:Gli stranieri e l’uso di sostanze psicoattive
DTSTART;VALUE=DATE-TIME:20111118T080000Z
DTEND;VALUE=DATE-TIME:20111118T130000Z
DTSTAMP;VALUE=DATE-TIME:20260420T201858Z
UID:dea2b421d9303c35cf1843cb3efd264a@127.0.0.1:8095
CATEGORIES:Convegno
CONTACT:e.turino@ausl.bologna.it
CREATED;VALUE=DATE-TIME:20110919T100734Z
DESCRIPTION:Convegno
LAST-MODIFIED;VALUE=DATE-TIME:20111121T102651Z
LOCATION:Facoltà di Scienze della formazione\, Università di Bologna
URL:https://www.ausl.bologna.it/eventi/archivio/auslevent.2011-09-19.50292
 48472
END:VEVENT
END:VCALENDAR
