BEGIN:VCALENDAR
VERSION:2.0
PRODID:-//Plone.org//NONSGML plone.app.event//EN
X-WR-TIMEZONE:Europe/Rome
BEGIN:VEVENT
SUMMARY:RACE FOR THE CURE 2011
DTSTART;VALUE=DATE-TIME:20110923T130000Z
DTEND;VALUE=DATE-TIME:20110925T100000Z
DTSTAMP;VALUE=DATE-TIME:20260420T201806Z
UID:0713eaa3a60cfa7f2953ba68ae86a2e8@127.0.0.1:8095
CATEGORIES:Camminata e corsa campestre
CREATED;VALUE=DATE-TIME:20110916T095718Z
DESCRIPTION:Un week end di salute\, sport e benessere
LAST-MODIFIED;VALUE=DATE-TIME:20111121T102701Z
LOCATION:Bologna\, Giardini Margherita
URL:https://www.ausl.bologna.it/eventi/archivio/auslevent.2011-09-16.85420
 02208
END:VEVENT
END:VCALENDAR
