BEGIN:VCALENDAR
VERSION:2.0
PRODID:-//Plone.org//NONSGML plone.app.event//EN
X-WR-TIMEZONE:Europe/Rome
BEGIN:VEVENT
SUMMARY:Convegno: ambiente\, energia\, salute
DTSTART;VALUE=DATE-TIME:20110916T063000Z
DTEND;VALUE=DATE-TIME:20110916T153000Z
DTSTAMP;VALUE=DATE-TIME:20260420T201837Z
UID:c3dfa51e22299fec9a2c1885ad6ab60c@127.0.0.1:8095
CATEGORIES:Convegno
CONTACT:Silvia Passini\, s.passini@ausl.fe.it
CREATED;VALUE=DATE-TIME:20110829T103234Z
DESCRIPTION:Il ruolo della sanità
LAST-MODIFIED;VALUE=DATE-TIME:20110922T090617Z
LOCATION:Comacchio (FE)\, Palazzo Bellini
URL:https://www.ausl.bologna.it/eventi/archivio/auslevent.2011-08-29.68560
 64217
END:VEVENT
END:VCALENDAR
