BEGIN:VCALENDAR
VERSION:2.0
PRODID:-//Plone.org//NONSGML plone.app.event//EN
X-WR-TIMEZONE:Europe/Rome
BEGIN:VEVENT
SUMMARY:Le Cure Palliative precoci: Simultaneous Care vs Supportive Care
DTSTART;VALUE=DATE-TIME:20110923T083000Z
DTEND;VALUE=DATE-TIME:20110923T143000Z
DTSTAMP;VALUE=DATE-TIME:20260420T112157Z
UID:143bcd04d2f5400c8fd914ed09df68b2@127.0.0.1:8095
CATEGORIES:Aggiornamento
CONTACT:segreteria@asmepa.org
CREATED;VALUE=DATE-TIME:20110829T072821Z
DESCRIPTION:A cura della Dottoressa Danila Valenti 
LAST-MODIFIED;VALUE=DATE-TIME:20111121T102651Z
LOCATION:Bentivoglio\, Accademia delle Scienze Palliative
URL:https://www.ausl.bologna.it/eventi/archivio/auslevent.2011-08-29.56194
 91558
END:VEVENT
END:VCALENDAR
