BEGIN:VCALENDAR
VERSION:2.0
PRODID:-//Plone.org//NONSGML plone.app.event//EN
X-WR-TIMEZONE:Europe/Rome
BEGIN:VEVENT
SUMMARY:Con "Datti una mossa!" a fare trekking
DTSTART;VALUE=DATE-TIME:20110902T130000Z
DTEND;VALUE=DATE-TIME:20110904T180000Z
DTSTAMP;VALUE=DATE-TIME:20260420T201806Z
UID:7dbb49e0404e92d365fc4dce7770e076@127.0.0.1:8095
CATEGORIES:Camminata e corsa campestre
CONTACT:051 6478495
CREATED;VALUE=DATE-TIME:20110829T122229Z
DESCRIPTION:Trekking del Monte Grappa
LAST-MODIFIED;VALUE=DATE-TIME:20110922T090618Z
LOCATION:Vicenza
URL:https://www.ausl.bologna.it/eventi/archivio/auslevent.2011-08-29.36120
 86594
END:VEVENT
END:VCALENDAR
