BEGIN:VCALENDAR
VERSION:2.0
PRODID:-//Plone.org//NONSGML plone.app.event//EN
X-WR-TIMEZONE:Europe/Rome
BEGIN:VEVENT
SUMMARY:Le famiglie multiproblematiche
DTSTART;VALUE=DATE-TIME:20110630T063000Z
DTEND;VALUE=DATE-TIME:20110630T113000Z
DTSTAMP;VALUE=DATE-TIME:20260420T112129Z
UID:d918f9c67a66aa032b17ae71c5cabab9@127.0.0.1:8095
CATEGORIES:Aggiornamento
CONTACT:Salute Infanzia e Adolescenza\, uoc.dia@ausl.bologna.it
CREATED;VALUE=DATE-TIME:20110622T104827Z
DESCRIPTION:Verso la definizione di un modello di intervento
LAST-MODIFIED;VALUE=DATE-TIME:20110922T090556Z
LOCATION:Bologna\, Aula Colonne
URL:https://www.ausl.bologna.it/eventi/archivio/auslevent.2011-06-22.35231
 29224
END:VEVENT
END:VCALENDAR
