BEGIN:VCALENDAR
VERSION:2.0
PRODID:-//Plone.org//NONSGML plone.app.event//EN
X-WR-TIMEZONE:Europe/Rome
BEGIN:VEVENT
SUMMARY:La conquista della felicità
DTSTART;VALUE=DATE-TIME:20110710T150000Z
DTEND;VALUE=DATE-TIME:20110710T203000Z
DTSTAMP;VALUE=DATE-TIME:20260420T111103Z
UID:b917481f51e007b748a8b4499e2f60b0@127.0.0.1:8095
CATEGORIES:Serata
CONTACT:Gli amici di Luca\, amicidiluca@tin.it
CREATED;VALUE=DATE-TIME:20110621T120405Z
DESCRIPTION:Settima edizione della rassegna promossa dall’associazione G
 li amici di Luca alla Casa dei Risvegli Luca De Nigris dell’Azienda Usl 
 di Bologna
LAST-MODIFIED;VALUE=DATE-TIME:20110829T083813Z
LOCATION:Ospedale Bellaria\, Casa dei Risvegli
URL:https://www.ausl.bologna.it/eventi/archivio/auslevent.2011-06-21.62207
 68901
END:VEVENT
END:VCALENDAR
