BEGIN:VCALENDAR
VERSION:2.0
PRODID:-//Plone.org//NONSGML plone.app.event//EN
X-WR-TIMEZONE:Europe/Rome
BEGIN:VEVENT
SUMMARY:La conquista della felicità
DTSTART;VALUE=DATE-TIME:20110704T150000Z
DTEND;VALUE=DATE-TIME:20110704T203000Z
DTSTAMP;VALUE=DATE-TIME:20260422T103459Z
UID:5caca316d8c2f911c61c5db8ae80ea0b@127.0.0.1:8095
CATEGORIES:Serata
CONTACT:Gli amici di Luca\, amicidiluca@tin.it
CREATED;VALUE=DATE-TIME:20110621T102904Z
DESCRIPTION:Settima edizione della rassegna promossa dall’associazione G
 li amici di Luca alla Casa dei Risvegli Luca De Nigris dell’Azienda Usl 
 di Bologna.
LAST-MODIFIED;VALUE=DATE-TIME:20110829T083813Z
LOCATION:Ospedale Bellaria\, Casa dei Risvegli
URL:https://www.ausl.bologna.it/eventi/archivio/auslevent.2011-06-21.30240
 73376
END:VEVENT
END:VCALENDAR
