BEGIN:VCALENDAR
VERSION:2.0
PRODID:-//Plone.org//NONSGML plone.app.event//EN
X-WR-TIMEZONE:Europe/Rome
BEGIN:VEVENT
SUMMARY:La conquista della felicità
DTSTART;VALUE=DATE-TIME:20110624T150000Z
DTEND;VALUE=DATE-TIME:20110624T200000Z
DTSTAMP;VALUE=DATE-TIME:20260420T112119Z
UID:d2be8400fb4538dcb7a65aca9f26ab53@127.0.0.1:8095
CATEGORIES:Serata
CONTACT:Gli amici di Luca\, amicidiluca@tin.it
CREATED;VALUE=DATE-TIME:20110621T093140Z
DESCRIPTION:Settima edizione della rassegna promossa dall’associazione G
 li amici di Luca alla Casa dei Risvegli Luca De Nigris dell’Azienda Usl 
 di Bologna
LAST-MODIFIED;VALUE=DATE-TIME:20110829T083812Z
LOCATION:Ospedale Bellaria\, Casa dei Risvegli
URL:https://www.ausl.bologna.it/eventi/archivio/auslevent.2011-06-21.05345
 93822
END:VEVENT
END:VCALENDAR
