BEGIN:VCALENDAR
VERSION:2.0
PRODID:-//Plone.org//NONSGML plone.app.event//EN
X-WR-TIMEZONE:Europe/Rome
BEGIN:VEVENT
SUMMARY:Venticinque anni dell'Elisoccorso
DTSTART;VALUE=DATE-TIME:20110614T090000Z
DTEND;VALUE=DATE-TIME:20110614T110000Z
DTSTAMP;VALUE=DATE-TIME:20260420T093428Z
UID:f68b80548f01c837a85d76ecd953bee5@127.0.0.1:8095
CATEGORIES:Festa
CREATED;VALUE=DATE-TIME:20110613T082837Z
DESCRIPTION:L’Elisoccorso dell’Ospedale Maggiore\, Azienda USL di Bolo
 gna\, compie 25 anni di attività
LAST-MODIFIED;VALUE=DATE-TIME:20110829T083810Z
LOCATION:Bologna\, Ospedale Maggiore
URL:https://www.ausl.bologna.it/eventi/archivio/auslevent.2011-06-13.41566
 58435
END:VEVENT
END:VCALENDAR
