BEGIN:VCALENDAR
VERSION:2.0
PRODID:-//Plone.org//NONSGML plone.app.event//EN
X-WR-TIMEZONE:Europe/Rome
BEGIN:VEVENT
SUMMARY:Malattie trasmesse da alimenti: il rischio fisico radioattivo
DTSTART;VALUE=DATE-TIME:20110617T070000Z
DTEND;VALUE=DATE-TIME:20110617T150000Z
DTSTAMP;VALUE=DATE-TIME:20260420T111155Z
UID:5ac2b3145973caf18b9350e7635b14cc@127.0.0.1:8095
ATTENDEE;CN="Veterinari e Tecnici della prevenzione dei Servizi Veterinari
 . Medici igienisti e tecnici del SIAN. Laureati delle ASL, Regioni, Minist
 eri e Istituzioni pubbliche in settori attinenti al settore alimentare.";R
 OLE=REQ-PARTICIPANT:Veterinari e Tecnici della prevenzione dei Servizi Vet
 erinari. Medici igienisti e tecnici del SIAN. Laureati delle ASL, Regioni,
  Ministeri e Istituzioni pubbliche in settori attinenti al settore aliment
 are.
ATTENDEE;CN="Chimici, Biologi, e Analisti di laboratorio di Ist. Zooprofil
 attici ecc. Laureati dei servizi qualità o di Ditte che curano l’autoco
 ntrollo di aziende alimentari, o della ristorazione pubblica o collettiva 
 .";ROLE=REQ-PARTICIPANT:Chimici, Biologi, e Analisti di laboratorio di Ist
 . Zooprofilattici ecc. Laureati dei servizi qualità o di Ditte che curano
  l’autocontrollo di aziende alimentari, o della ristorazione pubblica o 
 collettiva .
CATEGORIES:Aggiornamento
CONTACT:Alfredo Mengoli\, a.mengoli@ausl.bologna.it
CREATED;VALUE=DATE-TIME:20110527T110918Z
DESCRIPTION:Compiti del DSP in episodi di fall out radioattivo o nelle tec
 nologie conservative degli alimenti basate sull'irraggiamento
LAST-MODIFIED;VALUE=DATE-TIME:20110829T102514Z
LOCATION:Casalecchio di Reno\, Sede polinfuzionale
URL:https://www.ausl.bologna.it/eventi/archivio/auslevent.2011-05-27.13261
 55242
END:VEVENT
END:VCALENDAR
