BEGIN:VCALENDAR
VERSION:2.0
PRODID:-//Plone.org//NONSGML plone.app.event//EN
X-WR-TIMEZONE:Europe/Rome
BEGIN:VEVENT
SUMMARY:Giornata mondiale senza tabacco
DTSTART;VALUE=DATE-TIME:20110531T143000Z
DTEND;VALUE=DATE-TIME:20110531T173000Z
DTSTAMP;VALUE=DATE-TIME:20260420T165100Z
UID:3e9a2cf93641e4713d55202e42e65419@127.0.0.1:8095
CATEGORIES:Dibattito
CONTACT:I&C srl\, alessandra.bolognini@iec-srl.it
CREATED;VALUE=DATE-TIME:20110525T112012Z
DESCRIPTION:Promossa dall'Organizzazione Mondiale della Sanità
LAST-MODIFIED;VALUE=DATE-TIME:20110829T102512Z
LOCATION:Bologna\, Palazzo Comunale
URL:https://www.ausl.bologna.it/eventi/archivio/auslevent.2011-05-25.90349
 81751
END:VEVENT
END:VCALENDAR
