BEGIN:VCALENDAR
VERSION:2.0
PRODID:-//Plone.org//NONSGML plone.app.event//EN
X-WR-TIMEZONE:Europe/Rome
BEGIN:VEVENT
SUMMARY:ATLANTE ISTOLOGICO DIGITALE IN RETE
DTSTART;VALUE=DATE-TIME:20110627T070000Z
DTEND;VALUE=DATE-TIME:20110627T140000Z
DTSTAMP;VALUE=DATE-TIME:20260422T103538Z
UID:4458569c0a98d02179d7a845d4ab3c3e@127.0.0.1:8095
CATEGORIES:Aggiornamento
CREATED;VALUE=DATE-TIME:20110516T124518Z
DESCRIPTION:Didattica\, Controllo di Qualità\, Riferimento diagnostico. S
 tandard\, metodi di realizzazione\, catalogazione e condivisione.
LAST-MODIFIED;VALUE=DATE-TIME:20110829T100936Z
LOCATION:Bologna\, Casa dei Donatori
URL:https://www.ausl.bologna.it/eventi/archivio/auslevent.2011-05-16.52226
 36618
END:VEVENT
END:VCALENDAR
