BEGIN:VCALENDAR
VERSION:2.0
PRODID:-//Plone.org//NONSGML plone.app.event//EN
X-WR-TIMEZONE:Europe/Rome
BEGIN:VEVENT
SUMMARY:IL CORPO LESO. CLINICA PSICOANALITICA DEL FENOMENO PSICOSOMATICO
DTSTART;VALUE=DATE-TIME:20110518T160000Z
DTEND;VALUE=DATE-TIME:20110518T170000Z
DTSTAMP;VALUE=DATE-TIME:20260420T164646Z
UID:9f9c1d74ff1304c0c2e78369c1bfdec7@127.0.0.1:8095
CATEGORIES:Incontro con l'autore
CREATED;VALUE=DATE-TIME:20110511T101757Z
DESCRIPTION:Presentazione del libro
LAST-MODIFIED;VALUE=DATE-TIME:20110829T100926Z
LOCATION:Bologna\, Centro Documentazione delle Donne
URL:https://www.ausl.bologna.it/eventi/archivio/auslevent.2011-05-11.78643
 54820
END:VEVENT
END:VCALENDAR
