BEGIN:VCALENDAR
VERSION:2.0
PRODID:-//Plone.org//NONSGML plone.app.event//EN
X-WR-TIMEZONE:Europe/Rome
BEGIN:VEVENT
SUMMARY:Solidarietà in piazza 2011
DTSTART;VALUE=DATE-TIME:20110528T140000Z
DTEND;VALUE=DATE-TIME:20110529T203000Z
DTSTAMP;VALUE=DATE-TIME:20260420T093435Z
UID:98776dfd6e85350815597478cff15d79@127.0.0.1:8095
CATEGORIES:Festa
CREATED;VALUE=DATE-TIME:20110511T113906Z
DESCRIPTION:Festa in piazza
LAST-MODIFIED;VALUE=DATE-TIME:20110829T100928Z
LOCATION:San Lazzaro di Savena\, Piazza Bracci
URL:https://www.ausl.bologna.it/eventi/archivio/auslevent.2011-05-11.24239
 35609
END:VEVENT
END:VCALENDAR
