BEGIN:VCALENDAR
VERSION:2.0
PRODID:-//Plone.org//NONSGML plone.app.event//EN
X-WR-TIMEZONE:Europe/Rome
BEGIN:VEVENT
SUMMARY:Dieci anni del Centro Regionale Sangue della Regione Emilia-Romagn
 a
DTSTART;VALUE=DATE-TIME:20110516T083000Z
DTEND;VALUE=DATE-TIME:20110516T133000Z
DTSTAMP;VALUE=DATE-TIME:20260420T143314Z
UID:75eeba3f82cc0f1dbbc61b6a02d3dd07@127.0.0.1:8095
CATEGORIES:Tavola rotonda
CONTACT:Vanda Randi\, vanda.randi@ausl.bologna.it
CREATED;VALUE=DATE-TIME:20110511T132317Z
DESCRIPTION:Ricordando Paolo Zucchelli
LAST-MODIFIED;VALUE=DATE-TIME:20110829T100932Z
LOCATION:Bologna\, Casa dei Donatori
URL:https://www.ausl.bologna.it/eventi/archivio/auslevent.2011-05-11.20050
 10076
END:VEVENT
END:VCALENDAR
