BEGIN:VCALENDAR
VERSION:2.0
PRODID:-//Plone.org//NONSGML plone.app.event//EN
X-WR-TIMEZONE:Europe/Rome
BEGIN:VEVENT
SUMMARY:Corso di aggiornamento: PIASTRINOSI & PIASTRINOPENIE
DTSTART;VALUE=DATE-TIME:20110525T063000Z
DTEND;VALUE=DATE-TIME:20110525T150000Z
DTSTAMP;VALUE=DATE-TIME:20260420T112112Z
UID:c90139d1ad372d318e126aea5961314f@127.0.0.1:8095
CATEGORIES:Aggiornamento
CONTACT:DueCi Promotion srl\, ggrillenzoni@duecipromotion.com
CREATED;VALUE=DATE-TIME:20110505T081151Z
DESCRIPTION:Argomenti di fisiopatologia\, clinica\, laboratorio.
LAST-MODIFIED;VALUE=DATE-TIME:20110829T100923Z
LOCATION:Bologna\, Ospedale Maggiore
URL:https://www.ausl.bologna.it/eventi/archivio/auslevent.2011-05-05.85922
 89943
END:VEVENT
END:VCALENDAR
