BEGIN:VCALENDAR
VERSION:2.0
PRODID:-//Plone.org//NONSGML plone.app.event//EN
X-WR-TIMEZONE:Europe/Rome
BEGIN:VEVENT
SUMMARY:Abuso sessuale sul minore e complessità dell’intervento
DTSTART;VALUE=DATE-TIME:20110521T061500Z
DTEND;VALUE=DATE-TIME:20110521T113000Z
DTSTAMP;VALUE=DATE-TIME:20260420T183544Z
UID:180b8245714e6fc7db53dfadf1883499@127.0.0.1:8095
ATTENDEE;CN="Assistenti Sanitarie - Assistenti Sociali - Ginecologi - Infe
 rmieri -  Personale Sanitario dei PS Generali della Provincia - Medici Leg
 ali - Neuropsichiatri infantili - Pediatri Ospedalieri e Universitari - Pe
 diatri di Famiglia - Pediatri di Comunità - Psicologi - Specializzandi in
 ";ROLE=REQ-PARTICIPANT:Assistenti Sanitarie - Assistenti Sociali - Ginecol
 ogi - Infermieri -  Personale Sanitario dei PS Generali della Provincia - 
 Medici Legali - Neuropsichiatri infantili - Pediatri Ospedalieri e Univers
 itari - Pediatri di Famiglia - Pediatri di Comunità - Psicologi - Special
 izzandi in
ATTENDEE;CN="Chirurgia Pediatrica, Ginecologia, Infermieristica, Neuropsic
 hiatria Infantile, Pediatria, Psicologia.";ROLE=REQ-PARTICIPANT:Chirurgia 
 Pediatrica, Ginecologia, Infermieristica, Neuropsichiatria Infantile, Pedi
 atria, Psicologia.
CATEGORIES:seminario
CONTACT:Segreteria Il Faro\, ilfaro@ausl.bologna.it
CREATED;VALUE=DATE-TIME:20110503T090836Z
DESCRIPTION:Seminario clinico del Gruppo di Lavoro InterAziendale Multidis
 ciplinare\nper il Percorso Sanitario Integrato a Bologna
LAST-MODIFIED;VALUE=DATE-TIME:20110829T100918Z
LOCATION:Bologna\, Policlinico S. Orsola - Malpighi
URL:https://www.ausl.bologna.it/eventi/archivio/auslevent.2011-05-03.45976
 90874
END:VEVENT
END:VCALENDAR
