BEGIN:VCALENDAR
VERSION:2.0
PRODID:-//Plone.org//NONSGML plone.app.event//EN
X-WR-TIMEZONE:Europe/Rome
BEGIN:VEVENT
SUMMARY:LE CURE ALLA PERSONA CON MALATTIA INFETTIVA: COME GOVERNARE LA COM
 PLESSITA’
DTSTART;VALUE=DATE-TIME:20110515T150000Z
DTEND;VALUE=DATE-TIME:20110517T160000Z
DTSTAMP;VALUE=DATE-TIME:20260420T143350Z
UID:c08c224dbd4626734a0bc462cbf82edb@127.0.0.1:8095
CATEGORIES:congresso
CONTACT:T.M.T. Srl\, congress@tmtworld.it
CREATED;VALUE=DATE-TIME:20110502T114003Z
DESCRIPTION:XIII Congresso Nazionale AIMI
LAST-MODIFIED;VALUE=DATE-TIME:20110829T100912Z
LOCATION:Bologna\, Palazzo della Cultura e dei Congressi
URL:https://www.ausl.bologna.it/eventi/archivio/auslevent.2011-05-02.23927
 93578
END:VEVENT
END:VCALENDAR
