BEGIN:VCALENDAR
VERSION:2.0
PRODID:-//Plone.org//NONSGML plone.app.event//EN
X-WR-TIMEZONE:Europe/Rome
BEGIN:VEVENT
SUMMARY:GLI SCRITTORI RACCONTANO LA FATICA DI CRESCERE
DTSTART;VALUE=DATE-TIME:20110505T160000Z
DTEND;VALUE=DATE-TIME:20110505T170000Z
DTSTAMP;VALUE=DATE-TIME:20260420T164551Z
UID:c56232484ea68b417a7e38f590e5dfe0@127.0.0.1:8095
CATEGORIES:Incontro con l'autore
CONTACT:Centro “Accendi Molti Fuochi”\, accendimoltifuochi@ausl.bologn
 a.it
CREATED;VALUE=DATE-TIME:20110429T092745Z
DESCRIPTION:Presentazione con letture del libro danese“Idiot” di OSCAR
  C. - DORTE KARREBAEK
LAST-MODIFIED;VALUE=DATE-TIME:20110829T100906Z
LOCATION:Bologna\, Cappella Farnese
URL:https://www.ausl.bologna.it/eventi/archivio/auslevent.2011-04-29.89068
 26120
END:VEVENT
END:VCALENDAR
