BEGIN:VCALENDAR
VERSION:2.0
PRODID:-//Plone.org//NONSGML plone.app.event//EN
X-WR-TIMEZONE:Europe/Rome
BEGIN:VEVENT
SUMMARY:GLI SCRITTORI RACCONTANO LA FATICA DI CRESCERE
DTSTART;VALUE=DATE-TIME:20110518T160000Z
DTEND;VALUE=DATE-TIME:20110518T170000Z
DTSTAMP;VALUE=DATE-TIME:20260420T164550Z
UID:501cb1f09a1e566e309ee24a595c2e58@127.0.0.1:8095
CATEGORIES:Incontro con l'autore
CONTACT:Centro “Accendi Molti Fuochi”\, accendimoltifuochi@ausl.bologn
 a.it
CREATED;VALUE=DATE-TIME:20110429T112153Z
DESCRIPTION:Presentazione con letture alla presenza dell’Autore del libr
 o “Batti il Muro” di ANTONIO FERRARA - Edizioni Rizzoli\n
LAST-MODIFIED;VALUE=DATE-TIME:20110829T100909Z
LOCATION:Bologna\, Cappella Farnese
URL:https://www.ausl.bologna.it/eventi/archivio/auslevent.2011-04-29.85870
 62330
END:VEVENT
END:VCALENDAR
