BEGIN:VCALENDAR
VERSION:2.0
PRODID:-//Plone.org//NONSGML plone.app.event//EN
X-WR-TIMEZONE:Europe/Rome
BEGIN:VEVENT
SUMMARY:GLI SCRITTORI RACCONTANO LA FATICA DI CRESCERE 
DTSTART;VALUE=DATE-TIME:20110511T160000Z
DTEND;VALUE=DATE-TIME:20110511T170000Z
DTSTAMP;VALUE=DATE-TIME:20260420T183345Z
UID:2e61792068831eba2e1034081e492ca7@127.0.0.1:8095
CONTACT:Centro “Accendi Molti Fuochi” \, accendimoltifuochi@ausl.bolog
 na.it
CREATED;VALUE=DATE-TIME:20110429T105446Z
DESCRIPTION:Presentazione con letture alla presenza dell’Autore del libr
 o “Talpa Lumaca Pesciolino”  di GUIDO QUARZO Edizioni Motta Junior\n
LAST-MODIFIED;VALUE=DATE-TIME:20110829T100908Z
LOCATION:Bologna\, Cappella Farnese
URL:https://www.ausl.bologna.it/eventi/archivio/auslevent.2011-04-29.34560
 85591
END:VEVENT
END:VCALENDAR
