BEGIN:VCALENDAR
VERSION:2.0
PRODID:-//Plone.org//NONSGML plone.app.event//EN
X-WR-TIMEZONE:Europe/Rome
BEGIN:VEVENT
SUMMARY:La continuità terapeutica: una sfida dentro e tra le équipes
DTSTART;VALUE=DATE-TIME:20110513T063000Z
DTEND;VALUE=DATE-TIME:20110513T110000Z
DTSTAMP;VALUE=DATE-TIME:20260420T183416Z
UID:a6aa161af2f6088c28f25af0802a1b30@127.0.0.1:8095
ATTENDEE;CN="Operatori del Dipartimento Salute Mentale e Dipendenze Patolo
 giche";ROLE=REQ-PARTICIPANT:Operatori del Dipartimento Salute Mentale e Di
 pendenze Patologiche
CATEGORIES:seminario
CONTACT:Erica Pirazzini\, erica.pirazzini@ausl.bologna.it
CREATED;VALUE=DATE-TIME:20110428T081544Z
LAST-MODIFIED;VALUE=DATE-TIME:20110829T100903Z
LOCATION:Bologna\, Sala ARCI Benassi
URL:https://www.ausl.bologna.it/eventi/archivio/auslevent.2011-04-28.76678
 32915
END:VEVENT
END:VCALENDAR
