BEGIN:VCALENDAR
VERSION:2.0
PRODID:-//Plone.org//NONSGML plone.app.event//EN
X-WR-TIMEZONE:Europe/Rome
BEGIN:VEVENT
SUMMARY:MALATTIE TRASMESSE DA ALIMENTI DI ORIGINE ANIMALE: PERICOLI E RISC
 HI CHIMICI
DTSTART;VALUE=DATE-TIME:20110520T070000Z
DTEND;VALUE=DATE-TIME:20110520T153000Z
DTSTAMP;VALUE=DATE-TIME:20260420T111808Z
UID:56e7c21b3d9eaeea9c783a63d56cc8ba@127.0.0.1:8095
ATTENDEE;CN="Veterinari e Tecnici della prevenzione dei Servizi Veterinari
 . Medici igienisti e tecnici del SIAN. Laureati delle ASL, Regioni, Minist
 eri e Istituzioni pubbliche in settori attinenti al settore alimentare.";R
 OLE=REQ-PARTICIPANT:Veterinari e Tecnici della prevenzione dei Servizi Vet
 erinari. Medici igienisti e tecnici del SIAN. Laureati delle ASL, Regioni,
  Ministeri e Istituzioni pubbliche in settori attinenti al settore aliment
 are.
ATTENDEE;CN="Chimici, Biologi, e Analisti di laboratorio di Ist. Zooprofil
 attici ecc. Laureati dei servizi qualità o di Ditte che curano l’autoco
 ntrollo di aziende";ROLE=REQ-PARTICIPANT:Chimici, Biologi, e Analisti di l
 aboratorio di Ist. Zooprofilattici ecc. Laureati dei servizi qualità o di
  Ditte che curano l’autocontrollo di aziende
ATTENDEE;CN="alimentari, o della ristorazione pubblica o collettiva.";ROLE
 =REQ-PARTICIPANT:alimentari, o della ristorazione pubblica o collettiva.
CATEGORIES:Aggiornamento
CONTACT:Alfredo Mengoli\, a.mengoli@ausl.bologna.it
CREATED;VALUE=DATE-TIME:20110421T142314Z
DESCRIPTION:Compiti del Servizio Veterinario in episodi di intossicazione 
 da consumo di alimenti di origine animale
LAST-MODIFIED;VALUE=DATE-TIME:20110829T100902Z
LOCATION:Casalecchio di Reno\, Sede Polifunzionale Azienda USL
URL:https://www.ausl.bologna.it/eventi/archivio/auslevent.2011-04-21.48845
 87796
END:VEVENT
END:VCALENDAR
