BEGIN:VCALENDAR
VERSION:2.0
PRODID:-//Plone.org//NONSGML plone.app.event//EN
X-WR-TIMEZONE:Europe/Rome
BEGIN:VEVENT
SUMMARY:Gruppo di sostegno rivolto ai famigliari di pazienti affetti da ma
 lattia di Alzheimer
DTSTART;VALUE=DATE-TIME:20110511T160000Z
DTEND;VALUE=DATE-TIME:20110511T173000Z
DTSTAMP;VALUE=DATE-TIME:20260420T183631Z
UID:910696a378f454508327abcf9b0f109e@127.0.0.1:8095
CATEGORIES:Incontro
CONTACT:Ambra Frascà\, 348 4416469
CREATED;VALUE=DATE-TIME:20110415T102217Z
DESCRIPTION:Secondo incontro\, condotto dalla Dr.ssa Ambra Frascà.
LAST-MODIFIED;VALUE=DATE-TIME:20110829T095859Z
LOCATION:Bologna\, Ospedale Bellaria
URL:https://www.ausl.bologna.it/eventi/archivio/auslevent.2011-04-15.81067
 45817
END:VEVENT
END:VCALENDAR
