BEGIN:VCALENDAR
VERSION:2.0
PRODID:-//Plone.org//NONSGML plone.app.event//EN
X-WR-TIMEZONE:Europe/Rome
BEGIN:VEVENT
SUMMARY:“Passo dopo passo”
DTSTART;VALUE=DATE-TIME:20110419T180000Z
DTEND;VALUE=DATE-TIME:20110419T210000Z
DTSTAMP;VALUE=DATE-TIME:20260420T183156Z
UID:27ddaffe923dbba234f53326b6903ce4@127.0.0.1:8095
CONTACT:Di Taranto Carmine\, m.ditaranto@ausl.bologna.it
CREATED;VALUE=DATE-TIME:20110415T100615Z
DESCRIPTION:Gruppo di confronto - ascolto tra operatori\, utenti\, famigli
 ari e cittadinanza 
LAST-MODIFIED;VALUE=DATE-TIME:20110829T095857Z
LOCATION:San Lazzaro di Savena\, Sala della Città 
URL:https://www.ausl.bologna.it/eventi/archivio/auslevent.2011-04-15.56587
 01821
END:VEVENT
END:VCALENDAR
