BEGIN:VCALENDAR
VERSION:2.0
PRODID:-//Plone.org//NONSGML plone.app.event//EN
X-WR-TIMEZONE:Europe/Rome
BEGIN:VEVENT
SUMMARY:Gruppo di sostegno rivolto ai famigliari di pazienti affetti da ma
 lattia di Alzheimer
DTSTART;VALUE=DATE-TIME:20110427T160000Z
DTEND;VALUE=DATE-TIME:20110427T173000Z
DTSTAMP;VALUE=DATE-TIME:20260420T183545Z
UID:9206ed1a6bd8a8a5942d85600976f678@127.0.0.1:8095
CATEGORIES:Incontro
CONTACT:Ambra Frascà\, 348 4416469
CREATED;VALUE=DATE-TIME:20110415T101711Z
DESCRIPTION:Primo incontro\, condotto  dalla Dr.ssa Ambra Frascà.
LAST-MODIFIED;VALUE=DATE-TIME:20110829T095858Z
LOCATION:Bologna\, Ospedale Bellaria
URL:https://www.ausl.bologna.it/eventi/archivio/auslevent.2011-04-15.43315
 53991
END:VEVENT
END:VCALENDAR
