BEGIN:VCALENDAR
VERSION:2.0
PRODID:-//Plone.org//NONSGML plone.app.event//EN
X-WR-TIMEZONE:Europe/Rome
BEGIN:VEVENT
SUMMARY:Gruppo di sostegno rivolto ai famigliari di pazienti affetti da ma
 lattia di Alzheimer
DTSTART;VALUE=DATE-TIME:20110622T160000Z
DTEND;VALUE=DATE-TIME:20110622T173000Z
DTSTAMP;VALUE=DATE-TIME:20260420T183340Z
UID:ceee7f249c42b84faacbc384fac70353@127.0.0.1:8095
CATEGORIES:Incontro
CONTACT:Ambra Frascà\, 348 4416469
CREATED;VALUE=DATE-TIME:20110415T103111Z
DESCRIPTION:Quarto incontro\, condotto dalla Dr.ssa Ambra Frascà.
LAST-MODIFIED;VALUE=DATE-TIME:20110829T100854Z
LOCATION:Bologna\, Ospedale Bellaria
URL:https://www.ausl.bologna.it/eventi/archivio/auslevent.2011-04-15.38773
 35537
END:VEVENT
END:VCALENDAR
