BEGIN:VCALENDAR
VERSION:2.0
PRODID:-//Plone.org//NONSGML plone.app.event//EN
X-WR-TIMEZONE:Europe/Rome
BEGIN:VEVENT
SUMMARY:INTEGRAZIONE SOCIO-SANITARIA\, QUALITÀ ED APPROPRIATEZZA DEI SERV
 IZI PER DISABILI
DTSTART;VALUE=DATE-TIME:20110415T063000Z
DTEND;VALUE=DATE-TIME:20110415T153000Z
DTSTAMP;VALUE=DATE-TIME:20260420T183346Z
UID:54c34e96f581e9057f5ca3414f73858d@127.0.0.1:8095
CATEGORIES:seminario
CREATED;VALUE=DATE-TIME:20110415T145754Z
DESCRIPTION:Seminario  rivolto ai professionisti che operano nelle Unità 
 Socio-Sanitarie Integrate per disabili e nei servizi con i quali collabora
 no.
LAST-MODIFIED;VALUE=DATE-TIME:20110829T100858Z
LOCATION:Casalecchio di Reno\, Sede Polifunzionale "Cimarosa"
URL:https://www.ausl.bologna.it/eventi/archivio/auslevent.2011-04-15.31288
 55686
END:VEVENT
END:VCALENDAR
