BEGIN:VCALENDAR
VERSION:2.0
PRODID:-//Plone.org//NONSGML plone.app.event//EN
X-WR-TIMEZONE:Europe/Rome
BEGIN:VEVENT
SUMMARY:Gruppo di sostegno rivolto ai famigliari di pazienti affetti da ma
 lattia di Alzheimer
DTSTART;VALUE=DATE-TIME:20110608T160000Z
DTEND;VALUE=DATE-TIME:20110608T173000Z
DTSTAMP;VALUE=DATE-TIME:20260420T183648Z
UID:f3e3e038f9a4b021e14331e5ad2f44f4@127.0.0.1:8095
CATEGORIES:Incontro
CONTACT:Ambra Frascà\, 348 4416469
CREATED;VALUE=DATE-TIME:20110415T102854Z
DESCRIPTION:Quarto incontro\, condotto dalla Dr.ssa Ambra Frascà.
LAST-MODIFIED;VALUE=DATE-TIME:20110829T095901Z
LOCATION:Bologna\, Ospedale Bellaria
URL:https://www.ausl.bologna.it/eventi/archivio/auslevent.2011-04-15.25649
 59651
END:VEVENT
END:VCALENDAR
