BEGIN:VCALENDAR
VERSION:2.0
PRODID:-//Plone.org//NONSGML plone.app.event//EN
X-WR-TIMEZONE:Europe/Rome
BEGIN:VEVENT
SUMMARY:Gruppo di sostegno rivolto ai famigliari di pazienti affetti da ma
 lattia di Alzheimer
DTSTART;VALUE=DATE-TIME:20110525T160000Z
DTEND;VALUE=DATE-TIME:20110525T173000Z
DTSTAMP;VALUE=DATE-TIME:20260420T183417Z
UID:8beba50951d256384c74c486cee5c673@127.0.0.1:8095
CATEGORIES:Incontro
CONTACT:Ambra Frascà\, 348 4416469
CREATED;VALUE=DATE-TIME:20110415T102541Z
DESCRIPTION:Terzo incontro\, condotto dalla Dr.ssa Ambra Frascà.
LAST-MODIFIED;VALUE=DATE-TIME:20110829T095900Z
LOCATION:Bologna\, Ospedale Bellaria
URL:https://www.ausl.bologna.it/eventi/archivio/auslevent.2011-04-15.05462
 07587
END:VEVENT
END:VCALENDAR
