BEGIN:VCALENDAR
VERSION:2.0
PRODID:-//Plone.org//NONSGML plone.app.event//EN
X-WR-TIMEZONE:Europe/Rome
BEGIN:VEVENT
SUMMARY:PRATICHE IN VIAGGIO
DTSTART;VALUE=DATE-TIME:20110419T070000Z
DTEND;VALUE=DATE-TIME:20110419T150000Z
DTSTAMP;VALUE=DATE-TIME:20260420T183417Z
UID:af8ef2b1a3647d4761315025c617fdff@127.0.0.1:8095
CATEGORIES:seminario
CONTACT:Ester Rondi\, ester.rondi@ausl.bologna.it
CREATED;VALUE=DATE-TIME:20110413T105150Z
DESCRIPTION:ESPERIENZE DI TUTORSHIP IN EUROPA
LAST-MODIFIED;VALUE=DATE-TIME:20110829T095853Z
LOCATION:Casalecchio di Reno\, Casa della Conoscenza
URL:https://www.ausl.bologna.it/eventi/archivio/auslevent.2011-04-13.64374
 42289
END:VEVENT
END:VCALENDAR
