BEGIN:VCALENDAR
VERSION:2.0
PRODID:-//Plone.org//NONSGML plone.app.event//EN
X-WR-TIMEZONE:Europe/Rome
BEGIN:VEVENT
SUMMARY:Laboratori di formazione
DTSTART;VALUE=DATE-TIME:20110512T063000Z
DTEND;VALUE=DATE-TIME:20110512T150000Z
DTSTAMP;VALUE=DATE-TIME:20260420T112111Z
UID:0c5443cd2677654e57406aeaf6709f96@127.0.0.1:8095
CATEGORIES:Aggiornamento
CONTACT:Dina Donati\, dina.donati@ausl.bologna.it
CREATED;VALUE=DATE-TIME:20110411T075648Z
DESCRIPTION:Ascolto delle donne vittime di violenza
LAST-MODIFIED;VALUE=DATE-TIME:20110829T095850Z
LOCATION:San Giovanni in Persiceto\, Sala del Consiglio Comunale
URL:https://www.ausl.bologna.it/eventi/archivio/auslevent.2011-04-11.52061
 82729
END:VEVENT
END:VCALENDAR
