BEGIN:VCALENDAR
VERSION:2.0
PRODID:-//Plone.org//NONSGML plone.app.event//EN
X-WR-TIMEZONE:Europe/Rome
BEGIN:VEVENT
SUMMARY:Laboratori di formazione
DTSTART;VALUE=DATE-TIME:20110505T063000Z
DTEND;VALUE=DATE-TIME:20110505T150000Z
DTSTAMP;VALUE=DATE-TIME:20260420T183339Z
UID:eb2c9f58eadadbbf806c70bd57c91818@127.0.0.1:8095
CATEGORIES:Aggiornamento
CONTACT:Dina Donati\, dina.donati@ausl.bologna.it
CREATED;VALUE=DATE-TIME:20110411T075406Z
DESCRIPTION:Ascolto delle donne vittime di violenza
LAST-MODIFIED;VALUE=DATE-TIME:20110829T095849Z
LOCATION:San Giovanni in Persiceto\, Sala del Consiglio Comunale
URL:https://www.ausl.bologna.it/eventi/archivio/auslevent.2011-04-11.09800
 66584
END:VEVENT
END:VCALENDAR
