BEGIN:VCALENDAR
VERSION:2.0
PRODID:-//Plone.org//NONSGML plone.app.event//EN
X-WR-TIMEZONE:Europe/Rome
BEGIN:VEVENT
SUMMARY:Laboratori di formazione
DTSTART;VALUE=DATE-TIME:20110518T063000Z
DTEND;VALUE=DATE-TIME:20110518T150000Z
DTSTAMP;VALUE=DATE-TIME:20260420T183544Z
UID:86bdcce58f7e648e40f5ea117aa834e5@127.0.0.1:8095
CATEGORIES:Aggiornamento
CONTACT:Dina Donati\, dina.donati@ausl.bologna.it
CREATED;VALUE=DATE-TIME:20110411T080543Z
DESCRIPTION:Ascolto delle donne vittime di violenza
LAST-MODIFIED;VALUE=DATE-TIME:20110829T095850Z
LOCATION:Calderara di Reno\, Teatro Spazio Reno
URL:https://www.ausl.bologna.it/eventi/archivio/auslevent.2011-04-11.06239
 91851
END:VEVENT
END:VCALENDAR
