BEGIN:VCALENDAR
VERSION:2.0
PRODID:-//Plone.org//NONSGML plone.app.event//EN
X-WR-TIMEZONE:Europe/Rome
BEGIN:VEVENT
SUMMARY:Assistenza respiratoria non invasiva nel neonato e nel lattante
DTSTART;VALUE=DATE-TIME:20110414T123000Z
DTEND;VALUE=DATE-TIME:20110415T170000Z
DTSTAMP;VALUE=DATE-TIME:20260420T183416Z
UID:cb116864b3b2a220202e48a90db8e1a2@127.0.0.1:8095
CATEGORIES:Convegno
CONTACT:Momeda Eventi srl\, info@momedaeventi.com
CREATED;VALUE=DATE-TIME:20110406T112309Z
DESCRIPTION:Convegno
LAST-MODIFIED;VALUE=DATE-TIME:20110829T095847Z
LOCATION:Bologna\, Palazzo Re Enzo
URL:https://www.ausl.bologna.it/eventi/archivio/auslevent.2011-04-06.80150
 00245
END:VEVENT
END:VCALENDAR
