BEGIN:VCALENDAR
VERSION:2.0
PRODID:-//Plone.org//NONSGML plone.app.event//EN
X-WR-TIMEZONE:Europe/Rome
BEGIN:VEVENT
SUMMARY:Medicina difensiva e uso appropriato delle risorse in Sanità
DTSTART;VALUE=DATE-TIME:20110409T080000Z
DTEND;VALUE=DATE-TIME:20110409T100000Z
DTSTAMP;VALUE=DATE-TIME:20260422T103609Z
UID:ffe78b14a7115c558428460dbd05e52e@127.0.0.1:8095
CATEGORIES:Dibattito
CONTACT:Società Medica Chirurgica di Bologna\, info@medchir.bo.it
CREATED;VALUE=DATE-TIME:20110406T082032Z
DESCRIPTION:Giornata di cultura sanitaria
LAST-MODIFIED;VALUE=DATE-TIME:20110829T095846Z
LOCATION:Bologna\, Palazzo dell'Archiginnasio
URL:https://www.ausl.bologna.it/eventi/archivio/auslevent.2011-04-06.47771
 14386
END:VEVENT
END:VCALENDAR
