BEGIN:VCALENDAR
VERSION:2.0
PRODID:-//Plone.org//NONSGML plone.app.event//EN
X-WR-TIMEZONE:Europe/Rome
BEGIN:VEVENT
SUMMARY:World Health Day - Giornata mondiale della salute
DTSTART;VALUE=DATE-TIME:20110406T220000Z
DTEND;VALUE=DATE-TIME:20110407T215500Z
DTSTAMP;VALUE=DATE-TIME:20260420T183418Z
UID:10cad590c1fc51916177fb3767a30c6b@127.0.0.1:8095
CREATED;VALUE=DATE-TIME:20110405T084849Z
DESCRIPTION:"Antimicrobial resistance: no action today\, no cure tomorrow"
  il tema scelto dall'Organizzazione Mondiale della Sanità.
LAST-MODIFIED;VALUE=DATE-TIME:20110829T095845Z
URL:https://www.ausl.bologna.it/eventi/archivio/auslevent.2011-04-05.66187
 20925
END:VEVENT
END:VCALENDAR
