BEGIN:VCALENDAR
VERSION:2.0
PRODID:-//Plone.org//NONSGML plone.app.event//EN
X-WR-TIMEZONE:Europe/Rome
BEGIN:VEVENT
SUMMARY:LA TERAPIA COGNITIVO COMPORTAMENTALE CENTRATA SUL TRAUMA DEI BAMBI
 NI\, DEGLI ADOLESCENTI E DELLE LORO FAMIGLIE
DTSTART;VALUE=DATE-TIME:20110415T063000Z
DTEND;VALUE=DATE-TIME:20110416T140000Z
DTSTAMP;VALUE=DATE-TIME:20260420T183208Z
UID:cb34bf04ce508de942afd4f646d42708@127.0.0.1:8095
CATEGORIES:Aggiornamento
CONTACT:Fondazione Child\, 059 9787000\, info@fondazionechild.it
CREATED;VALUE=DATE-TIME:20110404T070904Z
DESCRIPTION:Corso di formazione per neuropsichiatri infantili\, psichiatri
  e psicologi
LAST-MODIFIED;VALUE=DATE-TIME:20110829T095842Z
LOCATION:Modena\, Facoltà di Medicina e Chirurgia\, Università degli Stu
 di di Modena e Reggio Emilia
URL:https://www.ausl.bologna.it/eventi/archivio/auslevent.2011-04-04.73667
 25455
END:VEVENT
END:VCALENDAR
