BEGIN:VCALENDAR
VERSION:2.0
PRODID:-//Plone.org//NONSGML plone.app.event//EN
X-WR-TIMEZONE:Europe/Rome
BEGIN:VEVENT
SUMMARY:Alimentazione\, Stili di Vita e Promozione della Salute
DTSTART;VALUE=DATE-TIME:20110404T071500Z
DTEND;VALUE=DATE-TIME:20110405T153000Z
DTSTAMP;VALUE=DATE-TIME:20260420T183207Z
UID:2447dae3d02f30282a1db8ba2949b2fc@127.0.0.1:8095
CATEGORIES:Convegno
CONTACT:Progetto Meeting\, info@progettomeeting.it
CREATED;VALUE=DATE-TIME:20110404T074907Z
DESCRIPTION:Ciclo di convegni in occasione  del Salone della pasta PastaTr
 end
LAST-MODIFIED;VALUE=DATE-TIME:20110829T095843Z
LOCATION:Bologna\, Quartiere Fieristico
URL:https://www.ausl.bologna.it/eventi/archivio/auslevent.2011-04-04.04119
 60372
END:VEVENT
END:VCALENDAR
