BEGIN:VCALENDAR
VERSION:2.0
PRODID:-//Plone.org//NONSGML plone.app.event//EN
X-WR-TIMEZONE:Europe/Rome
BEGIN:VEVENT
SUMMARY:VI WORKSHOP ITALIANO SULL’AUDIT CLINICO
DTSTART;VALUE=DATE-TIME:20110527T120000Z
DTEND;VALUE=DATE-TIME:20110528T113000Z
DTSTAMP;VALUE=DATE-TIME:20260420T183724Z
UID:4db0498fabd2064a2014a7e27e94cfa3@127.0.0.1:8095
CATEGORIES:Workshop
CONTACT:Emmedi s.r.l.\, info@mdemmedi.com
CREATED;VALUE=DATE-TIME:20110331T135725Z
LAST-MODIFIED;VALUE=DATE-TIME:20110829T085038Z
LOCATION:Perugia\, Etruscan Chocohotel
URL:https://www.ausl.bologna.it/eventi/archivio/auslevent.2011-03-31.73481
 03546
END:VEVENT
END:VCALENDAR
