BEGIN:VCALENDAR
VERSION:2.0
PRODID:-//Plone.org//NONSGML plone.app.event//EN
X-WR-TIMEZONE:Europe/Rome
BEGIN:VEVENT
SUMMARY:“Ascoltare\, raccontare\, curare. Orizzonti e prospettive di uma
 nizzazione in sanità” 
DTSTART;VALUE=DATE-TIME:20110428T070000Z
DTEND;VALUE=DATE-TIME:20110428T120000Z
DTSTAMP;VALUE=DATE-TIME:20260420T183347Z
UID:6882de0188b5f01406a6694160f4ecd3@127.0.0.1:8095
CATEGORIES:Aggiornamento
CONTACT:Cristina Malvi\, 051 6597137 \, c.malvi@ausl.bologna.it
CREATED;VALUE=DATE-TIME:20110330T090248Z
DESCRIPTION:Corso di formazione
LAST-MODIFIED;VALUE=DATE-TIME:20110829T085034Z
LOCATION:Bologna\, Casa dei Donatori
URL:https://www.ausl.bologna.it/eventi/archivio/auslevent.2011-03-30.48456
 44182
END:VEVENT
END:VCALENDAR
