BEGIN:VCALENDAR
VERSION:2.0
PRODID:-//Plone.org//NONSGML plone.app.event//EN
X-WR-TIMEZONE:Europe/Rome
BEGIN:VEVENT
SUMMARY:Bachianas 2011
DTSTART;VALUE=DATE-TIME:20110403T183000Z
DTEND;VALUE=DATE-TIME:20110403T203000Z
DTSTAMP;VALUE=DATE-TIME:20260420T183725Z
UID:bfdd0f4ab27916849d74a5c205feb183@127.0.0.1:8095
CATEGORIES:Serata
CONTACT:Bimbo Tu O.N.L.U.S.\, 334 1477544\, segreteria@bimbotu.it
CREATED;VALUE=DATE-TIME:20110330T075645Z
DESCRIPTION:Rassegna di concerti a favore delle Associazioni Susan Komen I
 talia e Bimbo Tu Onlus
LAST-MODIFIED;VALUE=DATE-TIME:20110829T085021Z
LOCATION:Bologna\, Chiesa Avventista
URL:https://www.ausl.bologna.it/eventi/archivio/auslevent.2011-03-30.44780
 67460
END:VEVENT
END:VCALENDAR
