BEGIN:VCALENDAR
VERSION:2.0
PRODID:-//Plone.org//NONSGML plone.app.event//EN
X-WR-TIMEZONE:Europe/Rome
BEGIN:VEVENT
SUMMARY:Quali regole per il fine vita?
DTSTART;VALUE=DATE-TIME:20110331T123000Z
DTEND;VALUE=DATE-TIME:20110331T163000Z
DTSTAMP;VALUE=DATE-TIME:20260420T165017Z
UID:ac974709798066e740d780f1b1b9a6e4@127.0.0.1:8095
CATEGORIES:Dibattito
CREATED;VALUE=DATE-TIME:20110330T093126Z
DESCRIPTION:Un confronto sul Biotestamento
LAST-MODIFIED;VALUE=DATE-TIME:20110829T085035Z
LOCATION:Bologna\, Università degli Studi
URL:https://www.ausl.bologna.it/eventi/archivio/auslevent.2011-03-30.14725
 94061
END:VEVENT
END:VCALENDAR
