BEGIN:VCALENDAR
VERSION:2.0
PRODID:-//Plone.org//NONSGML plone.app.event//EN
X-WR-TIMEZONE:Europe/Rome
BEGIN:VEVENT
SUMMARY:La PET - TC in Gastroenterologia: indicazioni e risultati
DTSTART;VALUE=DATE-TIME:20110404T130000Z
DTEND;VALUE=DATE-TIME:20110404T150000Z
DTSTAMP;VALUE=DATE-TIME:20260420T183630Z
UID:4961474c7c01559ec1ef885120f9b6b6@127.0.0.1:8095
CATEGORIES:corso,Aggiornamento
CREATED;VALUE=DATE-TIME:20110328T093913Z
DESCRIPTION:Lunedì di aggiornamento in Radiologia Gastroenterologica 2011
 .  A cura del Dipartimento Servizi - Area Diagnostica per immagini
LAST-MODIFIED;VALUE=DATE-TIME:20110829T084950Z
LOCATION:Bologna\, Ospedale Bellaria
URL:https://www.ausl.bologna.it/eventi/archivio/auslevent.2011-03-28.97223
 51757
END:VEVENT
END:VCALENDAR
