BEGIN:VCALENDAR
VERSION:2.0
PRODID:-//Plone.org//NONSGML plone.app.event//EN
X-WR-TIMEZONE:Europe/Rome
BEGIN:VEVENT
SUMMARY:La Radiologia interventistica in Gastroenterologia
DTSTART;VALUE=DATE-TIME:20110502T130000Z
DTEND;VALUE=DATE-TIME:20110502T150000Z
DTSTAMP;VALUE=DATE-TIME:20260420T183650Z
UID:c7398855c0651c41ec695da1a1b06916@127.0.0.1:8095
CATEGORIES:Aggiornamento
CREATED;VALUE=DATE-TIME:20110328T095357Z
DESCRIPTION:Lunedì di aggiornamento in Radiologia Gastroenterologica 2011
 .  A cura del Dipartimento Servizi - Area Diagnostica per immagini
LAST-MODIFIED;VALUE=DATE-TIME:20110829T084953Z
LOCATION:Bologna\, Ospedale Bellaria
URL:https://www.ausl.bologna.it/eventi/archivio/auslevent.2011-03-28.93192
 38920
END:VEVENT
END:VCALENDAR
