BEGIN:VCALENDAR
VERSION:2.0
PRODID:-//Plone.org//NONSGML plone.app.event//EN
X-WR-TIMEZONE:Europe/Rome
BEGIN:VEVENT
SUMMARY:LE EMERGENZE VASCOLARI: SELECTED TOPICS
DTSTART;VALUE=DATE-TIME:20110331T113000Z
DTEND;VALUE=DATE-TIME:20110401T153000Z
DTSTAMP;VALUE=DATE-TIME:20260420T183516Z
UID:78f8f1f39ba3f0413f74d302fa98c862@127.0.0.1:8095
CATEGORIES:Convegno
CONTACT:info@fc-eventi.com
CREATED;VALUE=DATE-TIME:20110328T134713Z
DESCRIPTION:Convegno
LAST-MODIFIED;VALUE=DATE-TIME:20110829T085002Z
LOCATION:Bologna\, Regione Emilia Romagna
URL:https://www.ausl.bologna.it/eventi/archivio/auslevent.2011-03-28.87192
 28454
END:VEVENT
END:VCALENDAR
